BEGIN:VCALENDAR
VERSION:2.0
PRODID:icalendar-ruby
CALSCALE:GREGORIAN
METHOD:PUBLISH
BEGIN:VEVENT
DTSTAMP:20260425T181130Z
UID:15-1701337@knoxpottershouse.com
DTSTART:20261102T000000Z
DTEND:20261102T010000Z
CLASS:PUBLIC
CREATED:20260425T123654
DESCRIPTION:Are you looking for an environment to explore God and faith? Jo
 in us Sunday evening for an "online" or "in-person"  worship service that
  draws people from all backgrounds. When you come you will find people wh
 o are searching for meaning and direction\, just like you. Singing togethe
 r\, being together\, and learning together during our weekly Sunday PM ser
 vice is part of how we commit to ongoing spiritual growth. We can’t do t
 his alone\, and you don’t have to. 
LAST-MODIFIED:20260425T123654
LOCATION:105 Northview St Knoxville TN 37919
SUMMARY:Sunday PM Service
URL;VALUE=URI:https://www.knoxpottershouse.com/events/sunday-pm-service/202
 6-11-01
END:VEVENT
END:VCALENDAR
